BEGIN:VCALENDAR
VERSION:2.0
PRODID:-//DaVita Intranet - ECPv6.6.4//NONSGML v1.0//EN
CALSCALE:GREGORIAN
METHOD:PUBLISH
X-ORIGINAL-URL:https://davitaintranet.052b.work
X-WR-CALDESC:Events for DaVita Intranet
REFRESH-INTERVAL;VALUE=DURATION:PT1H
X-Robots-Tag:noindex
X-PUBLISHED-TTL:PT1H
BEGIN:VTIMEZONE
TZID:Europe/Warsaw
BEGIN:DAYLIGHT
TZOFFSETFROM:+0100
TZOFFSETTO:+0200
TZNAME:CEST
DTSTART:20210328T010000
END:DAYLIGHT
BEGIN:STANDARD
TZOFFSETFROM:+0200
TZOFFSETTO:+0100
TZNAME:CET
DTSTART:20211031T010000
END:STANDARD
END:VTIMEZONE
BEGIN:VEVENT
DTSTART;TZID=Europe/Warsaw:20210325T120000
DTEND;TZID=Europe/Warsaw:20210325T123000
DTSTAMP:20260423T023802
CREATED:20210323T155520Z
LAST-MODIFIED:20210323T155520Z
UID:10000078-1616673600-1616675400@davitaintranet.052b.work
SUMMARY:TeD x DaVita: O co chodzi w dializie? Różne metody leczenia nerkozastępczego
DESCRIPTION:
URL:https://davitaintranet.052b.work/wydarzenie/ted-x-davita-o-co-chodzi-w-dializie-rozne-metody-leczenia-nerkozastepczego/
END:VEVENT
END:VCALENDAR