BEGIN:VCALENDAR
VERSION:2.0
PRODID:-//DaVita Intranet - ECPv6.6.4//NONSGML v1.0//EN
CALSCALE:GREGORIAN
METHOD:PUBLISH
X-ORIGINAL-URL:https://davitaintranet.052b.work
X-WR-CALDESC:Events for DaVita Intranet
REFRESH-INTERVAL;VALUE=DURATION:PT1H
X-Robots-Tag:noindex
X-PUBLISHED-TTL:PT1H
BEGIN:VTIMEZONE
TZID:Europe/Warsaw
BEGIN:DAYLIGHT
TZOFFSETFROM:+0100
TZOFFSETTO:+0200
TZNAME:CEST
DTSTART:20220327T010000
END:DAYLIGHT
BEGIN:STANDARD
TZOFFSETFROM:+0200
TZOFFSETTO:+0100
TZNAME:CET
DTSTART:20221030T010000
END:STANDARD
END:VTIMEZONE
BEGIN:VEVENT
DTSTART;TZID=Europe/Warsaw:20221124T100000
DTEND;TZID=Europe/Warsaw:20221124T103000
DTSTAMP:20260423T054902
CREATED:20221004T135733Z
LAST-MODIFIED:20221107T132640Z
UID:10000096-1669284000-1669285800@davitaintranet.052b.work
SUMMARY:DaVitowe inspiracje: Mediacje - czyli jak mądrzej postępować i w pracy i w życiu. Podpowie Ala Świerz-Jędrosek
DESCRIPTION:
URL:https://davitaintranet.052b.work/wydarzenie/tedxdavita-mediacje-czyli-jak-madrzej-postepowac-i-w-pracy-i-w-zyciu-podpowie-ala-swierz-jedrosek/
END:VEVENT
END:VCALENDAR