BEGIN:VCALENDAR
VERSION:2.0
PRODID:-//DaVita Intranet - ECPv6.6.4//NONSGML v1.0//EN
CALSCALE:GREGORIAN
METHOD:PUBLISH
X-ORIGINAL-URL:https://davitaintranet.052b.work
X-WR-CALDESC:Events for DaVita Intranet
REFRESH-INTERVAL;VALUE=DURATION:PT1H
X-Robots-Tag:noindex
X-PUBLISHED-TTL:PT1H
BEGIN:VTIMEZONE
TZID:Europe/Warsaw
BEGIN:DAYLIGHT
TZOFFSETFROM:+0100
TZOFFSETTO:+0200
TZNAME:CEST
DTSTART:20230326T010000
END:DAYLIGHT
BEGIN:STANDARD
TZOFFSETFROM:+0200
TZOFFSETTO:+0100
TZNAME:CET
DTSTART:20231029T010000
END:STANDARD
END:VTIMEZONE
BEGIN:VEVENT
DTSTART;TZID=Europe/Warsaw:20230308T100000
DTEND;TZID=Europe/Warsaw:20230308T110000
DTSTAMP:20260422T235536
CREATED:20230302T121224Z
LAST-MODIFIED:20230302T121224Z
UID:10000110-1678269600-1678273200@davitaintranet.052b.work
SUMMARY:Kobiecy work-life balance. Jak się nie wypalić?
DESCRIPTION:Z okazji Dnia Kobiet zapraszamy nie tylko kobiety na wyjątkowe wydarzenie! O równowadze w życiu opowie Danusia Rocławska – psycholożka\, trenerka\, coach\, ekspertka z 15- letnim doświadczeniem.
URL:https://davitaintranet.052b.work/wydarzenie/kobiecy-work-life-balance-jak-sie-nie-wypalic/
END:VEVENT
END:VCALENDAR