BEGIN:VCALENDAR
VERSION:2.0
PRODID:-//DaVita Intranet - ECPv6.6.4//NONSGML v1.0//EN
CALSCALE:GREGORIAN
METHOD:PUBLISH
X-WR-CALNAME:DaVita Intranet
X-ORIGINAL-URL:https://davitaintranet.052b.work
X-WR-CALDESC:Events for DaVita Intranet
REFRESH-INTERVAL;VALUE=DURATION:PT1H
X-Robots-Tag:noindex
X-PUBLISHED-TTL:PT1H
BEGIN:VTIMEZONE
TZID:Europe/Warsaw
BEGIN:DAYLIGHT
TZOFFSETFROM:+0100
TZOFFSETTO:+0200
TZNAME:CEST
DTSTART:20230326T010000
END:DAYLIGHT
BEGIN:STANDARD
TZOFFSETFROM:+0200
TZOFFSETTO:+0100
TZNAME:CET
DTSTART:20231029T010000
END:STANDARD
END:VTIMEZONE
BEGIN:VEVENT
DTSTART;TZID=Europe/Warsaw:20230329T100000
DTEND;TZID=Europe/Warsaw:20230329T103000
DTSTAMP:20260422T223755
CREATED:20230131T151344Z
LAST-MODIFIED:20230329T142732Z
UID:10000109-1680084000-1680085800@davitaintranet.052b.work
SUMMARY:DaVitowe inspiracje | Jak pracować mniej a efektywniej i przyjemniej? Wiedzą coacha podzieli się Edyta Kaczmarek
DESCRIPTION:
URL:https://davitaintranet.052b.work/wydarzenie/davitowe-inspiracje-poniewaz-jest-marzec-to-czas-pod-namiot-jak-dobrze-odpoczywac-na-lonie-natury-swoimi-patentami-dziela-sie-jacek-matecki-i-kamil-masnicki/
END:VEVENT
END:VCALENDAR