BEGIN:VCALENDAR
VERSION:2.0
PRODID:-//DaVita Intranet - ECPv6.6.4//NONSGML v1.0//EN
CALSCALE:GREGORIAN
METHOD:PUBLISH
X-WR-CALNAME:DaVita Intranet
X-ORIGINAL-URL:https://davitaintranet.052b.work
X-WR-CALDESC:Events for DaVita Intranet
REFRESH-INTERVAL;VALUE=DURATION:PT1H
X-Robots-Tag:noindex
X-PUBLISHED-TTL:PT1H
BEGIN:VTIMEZONE
TZID:Europe/Warsaw
BEGIN:DAYLIGHT
TZOFFSETFROM:+0100
TZOFFSETTO:+0200
TZNAME:CEST
DTSTART:20230326T010000
END:DAYLIGHT
BEGIN:STANDARD
TZOFFSETFROM:+0200
TZOFFSETTO:+0100
TZNAME:CET
DTSTART:20231029T010000
END:STANDARD
END:VTIMEZONE
BEGIN:VEVENT
DTSTART;TZID=Europe/Warsaw:20230608T100000
DTEND;TZID=Europe/Warsaw:20230608T103000
DTSTAMP:20260422T195535
CREATED:20230329T141928Z
LAST-MODIFIED:20230329T142439Z
UID:10000115-1686218400-1686220200@davitaintranet.052b.work
SUMMARY:DaVitowe Inspiracje | Ludzki mikrobom w zdrowiu i chorobie – co już wiemy\, a czego jeszcze nie? Wiedzę przekazuje Grzegorz Sadowski
DESCRIPTION:
URL:https://davitaintranet.052b.work/wydarzenie/davitowe-inspiracje-ludzki-mikrobom-w-zdrowiu-i-chorobie-co-juz-wiemy-a-czego-jeszcze-nie-wiedze-przekazuje-grzegorz-sadowski/
END:VEVENT
END:VCALENDAR