BEGIN:VCALENDAR
VERSION:2.0
PRODID:-//DaVita Intranet - ECPv6.6.4//NONSGML v1.0//EN
CALSCALE:GREGORIAN
METHOD:PUBLISH
X-WR-CALNAME:DaVita Intranet
X-ORIGINAL-URL:https://davitaintranet.052b.work
X-WR-CALDESC:Events for DaVita Intranet
REFRESH-INTERVAL;VALUE=DURATION:PT1H
X-Robots-Tag:noindex
X-PUBLISHED-TTL:PT1H
BEGIN:VTIMEZONE
TZID:Europe/Warsaw
BEGIN:DAYLIGHT
TZOFFSETFROM:+0100
TZOFFSETTO:+0200
TZNAME:CEST
DTSTART:20230326T010000
END:DAYLIGHT
BEGIN:STANDARD
TZOFFSETFROM:+0200
TZOFFSETTO:+0100
TZNAME:CET
DTSTART:20231029T010000
END:STANDARD
END:VTIMEZONE
BEGIN:VEVENT
DTSTART;TZID=Europe/Warsaw:20231214T090000
DTEND;TZID=Europe/Warsaw:20231214T100000
DTSTAMP:20260422T111903
CREATED:20231212T114346Z
LAST-MODIFIED:20231212T114418Z
UID:10000072-1702544400-1702548000@davitaintranet.052b.work
SUMMARY:Tydzień Przynależności | Siła zespołu
DESCRIPTION:W ramach świętowania Tygodnia Przynależności zapraszamy na spotkanie (w formie webinaru)\, podczas którego porozmawiamy o tym\, jest ważne dla budowania wspólnoty w naszych zespołach i co możemy robić indywidualnie\, a co razem\, aby praca „była samodzielna\, ale nigdy nie samotna”. \n„Zespół jest tak silny\, jak jego najsłabsze ogniwo” – postaramy się odpowiedzieć na pytanie: jakie znaczenie mają poczucie przynależności\, docenianie różnorodności i psychologiczne bezpieczeństwo dla dobrze współpracujących zespołów? \nWebinar poprowadzi psycholog Danusia Rocławska
URL:https://davitaintranet.052b.work/wydarzenie/tydzien-przynaleznosci-sila-zespolu/
END:VEVENT
END:VCALENDAR