BEGIN:VCALENDAR
VERSION:2.0
PRODID:-//DaVita Intranet - ECPv6.6.4//NONSGML v1.0//EN
CALSCALE:GREGORIAN
METHOD:PUBLISH
X-WR-CALNAME:DaVita Intranet
X-ORIGINAL-URL:https://davitaintranet.052b.work
X-WR-CALDESC:Events for DaVita Intranet
REFRESH-INTERVAL;VALUE=DURATION:PT1H
X-Robots-Tag:noindex
X-PUBLISHED-TTL:PT1H
BEGIN:VTIMEZONE
TZID:Europe/Warsaw
BEGIN:DAYLIGHT
TZOFFSETFROM:+0100
TZOFFSETTO:+0200
TZNAME:CEST
DTSTART:20230326T010000
END:DAYLIGHT
BEGIN:STANDARD
TZOFFSETFROM:+0200
TZOFFSETTO:+0100
TZNAME:CET
DTSTART:20231029T010000
END:STANDARD
END:VTIMEZONE
BEGIN:VEVENT
DTSTART;TZID=Europe/Warsaw:20231220T100000
DTEND;TZID=Europe/Warsaw:20231220T103000
DTSTAMP:20260422T111825
CREATED:20230928T101557Z
LAST-MODIFIED:20230928T101557Z
UID:10000069-1703066400-1703068200@davitaintranet.052b.work
SUMMARY:DaVitowe inspiracje | Stres jak szklanka wody. Kiedy ją wypić a kiedy wylać? - podpowie Edyta Kaczmarek
DESCRIPTION:
URL:https://davitaintranet.052b.work/wydarzenie/davitowe-inspiracje-stres-jak-szklanka-wody-kiedy-ja-wypic-a-kiedy-wylac-podpowie-edyta-kaczmarek/
END:VEVENT
END:VCALENDAR