BEGIN:VCALENDAR
VERSION:2.0
PRODID:-//DaVita Intranet - ECPv6.6.4//NONSGML v1.0//EN
CALSCALE:GREGORIAN
METHOD:PUBLISH
X-ORIGINAL-URL:https://davitaintranet.052b.work
X-WR-CALDESC:Events for DaVita Intranet
REFRESH-INTERVAL;VALUE=DURATION:PT1H
X-Robots-Tag:noindex
X-PUBLISHED-TTL:PT1H
BEGIN:VTIMEZONE
TZID:Europe/Warsaw
BEGIN:DAYLIGHT
TZOFFSETFROM:+0100
TZOFFSETTO:+0200
TZNAME:CEST
DTSTART:20240331T010000
END:DAYLIGHT
BEGIN:STANDARD
TZOFFSETFROM:+0200
TZOFFSETTO:+0100
TZNAME:CET
DTSTART:20241027T010000
END:STANDARD
END:VTIMEZONE
BEGIN:VEVENT
DTSTART;TZID=Europe/Warsaw:20240209T100000
DTEND;TZID=Europe/Warsaw:20240209T113000
DTSTAMP:20260422T083626
CREATED:20240208T140215Z
LAST-MODIFIED:20240208T140215Z
UID:10000125-1707472800-1707478200@davitaintranet.052b.work
SUMMARY:Voice of Village vol. 11
DESCRIPTION:Zapraszamy na spotkanie\, na którym podsumujemy 2023 rok i porozmawiamy i tym\, co nas czeka w 2024.
URL:https://davitaintranet.052b.work/wydarzenie/voice-of-village-vol-11/
END:VEVENT
END:VCALENDAR