BEGIN:VCALENDAR
VERSION:2.0
PRODID:-//DaVita Intranet - ECPv6.6.4//NONSGML v1.0//EN
CALSCALE:GREGORIAN
METHOD:PUBLISH
X-WR-CALNAME:DaVita Intranet
X-ORIGINAL-URL:https://davitaintranet.052b.work
X-WR-CALDESC:Events for DaVita Intranet
REFRESH-INTERVAL;VALUE=DURATION:PT1H
X-Robots-Tag:noindex
X-PUBLISHED-TTL:PT1H
BEGIN:VTIMEZONE
TZID:Europe/Warsaw
BEGIN:DAYLIGHT
TZOFFSETFROM:+0100
TZOFFSETTO:+0200
TZNAME:CEST
DTSTART:20220327T010000
END:DAYLIGHT
BEGIN:STANDARD
TZOFFSETFROM:+0200
TZOFFSETTO:+0100
TZNAME:CET
DTSTART:20221030T010000
END:STANDARD
END:VTIMEZONE
BEGIN:VEVENT
DTSTART;TZID=Europe/Warsaw:20220706T080000
DTEND;TZID=Europe/Warsaw:20220707T170000
DTSTAMP:20260423T114515
CREATED:20220721T103058Z
LAST-MODIFIED:20220721T103058Z
UID:10000087-1657094400-1657213200@davitaintranet.052b.work
SUMMARY:Świadome przywództwo: warsztaty dla liderów ośrodków z północno-wschodniej Polski
DESCRIPTION:
URL:https://davitaintranet.052b.work/wydarzenie/swiadome-przywodztwo-warsztaty-dla-liderow-osrodkow-z-polnocno-wschodniej-polski/
LOCATION:Bartlewo (Mazury)
END:VEVENT
BEGIN:VEVENT
DTSTART;VALUE=DATE:20220720
DTEND;VALUE=DATE:20220721
DTSTAMP:20260423T114515
CREATED:20220716T141939Z
LAST-MODIFIED:20220716T141939Z
UID:10000086-1658275200-1658361599@davitaintranet.052b.work
SUMMARY:Złożenie petycji w sprawie zmian w nefrologii do Ministerstwa Zdrowia
DESCRIPTION:
URL:https://davitaintranet.052b.work/wydarzenie/zlozenie-petycji-w-sprawie-zmian-w-nefrologii-do-ministerstwa-zdrowia/
END:VEVENT
END:VCALENDAR