BEGIN:VCALENDAR
VERSION:2.0
PRODID:-//DaVita Intranet - ECPv6.6.4//NONSGML v1.0//EN
CALSCALE:GREGORIAN
METHOD:PUBLISH
X-WR-CALNAME:DaVita Intranet
X-ORIGINAL-URL:https://davitaintranet.052b.work
X-WR-CALDESC:Events for DaVita Intranet
REFRESH-INTERVAL;VALUE=DURATION:PT1H
X-Robots-Tag:noindex
X-PUBLISHED-TTL:PT1H
BEGIN:VTIMEZONE
TZID:Europe/Warsaw
BEGIN:DAYLIGHT
TZOFFSETFROM:+0100
TZOFFSETTO:+0200
TZNAME:CEST
DTSTART:20220327T010000
END:DAYLIGHT
BEGIN:STANDARD
TZOFFSETFROM:+0200
TZOFFSETTO:+0100
TZNAME:CET
DTSTART:20221030T010000
END:STANDARD
END:VTIMEZONE
BEGIN:VEVENT
DTSTART;VALUE=DATE:20220815
DTEND;VALUE=DATE:20220901
DTSTAMP:20260423T103527
CREATED:20220822T134418Z
LAST-MODIFIED:20220822T134418Z
UID:10000091-1660521600-1661990399@davitaintranet.052b.work
SUMMARY:Walkabout Challenge: zapisz się pobierając aplikację Move Spring
DESCRIPTION:
URL:https://davitaintranet.052b.work/wydarzenie/walkabout-challenge-zapisz-sie-pobierajac-aplikacje-move-spring/
END:VEVENT
BEGIN:VEVENT
DTSTART;TZID=Europe/Warsaw:20220822T080000
DTEND;TZID=Europe/Warsaw:20220823T170000
DTSTAMP:20260423T103527
CREATED:20220721T103301Z
LAST-MODIFIED:20220721T103301Z
UID:10000088-1661155200-1661274000@davitaintranet.052b.work
SUMMARY:Świadome przywództwo: warsztaty dla liderów ośrodków z północno-zachodniej Polski
DESCRIPTION:
URL:https://davitaintranet.052b.work/wydarzenie/swiadome-przywodztwo-warsztaty-dla-liderow-osrodkow-z-polnocno-zachodniej-polski/
LOCATION:Poznań
END:VEVENT
BEGIN:VEVENT
DTSTART;VALUE=DATE:20220829
DTEND;VALUE=DATE:20221011
DTSTAMP:20260423T103527
CREATED:20220826T134922Z
LAST-MODIFIED:20220826T134922Z
UID:10000092-1661731200-1665446399@davitaintranet.052b.work
SUMMARY:Szkolenia odświeżające z zakresu zgodności
DESCRIPTION:Przeznaczone są dla wszystkich z nas. Pracownicy centrali oraz lekarze przechodzą szkolenie złożone z 3 modułów\, pielęgniarki – z dwóch.
URL:https://davitaintranet.052b.work/wydarzenie/szkolenia-odswiezajace-z-zakresu-zgodnosci/
END:VEVENT
BEGIN:VEVENT
DTSTART;TZID=Europe/Warsaw:20220829T080000
DTEND;TZID=Europe/Warsaw:20220830T170000
DTSTAMP:20260423T103527
CREATED:20220721T103458Z
LAST-MODIFIED:20220721T103458Z
UID:10000089-1661760000-1661878800@davitaintranet.052b.work
SUMMARY:Świadome przywództwo: warsztaty dla liderów ośrodków z południowo-wschodniej Polski
DESCRIPTION:
URL:https://davitaintranet.052b.work/wydarzenie/swiadome-przywodztwo-warsztaty-dla-liderow-osrodkow-z-poludniowo-wschodniej-polski/
LOCATION:Katowice
END:VEVENT
END:VCALENDAR