BEGIN:VCALENDAR
VERSION:2.0
PRODID:-//DaVita Intranet - ECPv6.6.4//NONSGML v1.0//EN
CALSCALE:GREGORIAN
METHOD:PUBLISH
X-ORIGINAL-URL:https://davitaintranet.052b.work
X-WR-CALDESC:Events for DaVita Intranet
REFRESH-INTERVAL;VALUE=DURATION:PT1H
X-Robots-Tag:noindex
X-PUBLISHED-TTL:PT1H
BEGIN:VTIMEZONE
TZID:Europe/Warsaw
BEGIN:DAYLIGHT
TZOFFSETFROM:+0100
TZOFFSETTO:+0200
TZNAME:CEST
DTSTART:20220327T010000
END:DAYLIGHT
BEGIN:STANDARD
TZOFFSETFROM:+0200
TZOFFSETTO:+0100
TZNAME:CET
DTSTART:20221030T010000
END:STANDARD
END:VTIMEZONE
BEGIN:VEVENT
DTSTART;VALUE=DATE:20220829
DTEND;VALUE=DATE:20221011
DTSTAMP:20260423T054829
CREATED:20220826T134922Z
LAST-MODIFIED:20220826T134922Z
UID:10000092-1661731200-1665446399@davitaintranet.052b.work
SUMMARY:Szkolenia odświeżające z zakresu zgodności
DESCRIPTION:Przeznaczone są dla wszystkich z nas. Pracownicy centrali oraz lekarze przechodzą szkolenie złożone z 3 modułów\, pielęgniarki – z dwóch.
URL:https://davitaintranet.052b.work/wydarzenie/szkolenia-odswiezajace-z-zakresu-zgodnosci/
END:VEVENT
BEGIN:VEVENT
DTSTART;TZID=Europe/Warsaw:20221013T100000
DTEND;TZID=Europe/Warsaw:20221013T103000
DTSTAMP:20260423T054829
CREATED:20221004T134840Z
LAST-MODIFIED:20221006T151653Z
UID:10000094-1665655200-1665657000@davitaintranet.052b.work
SUMMARY:DaVitowe inspiracje: Skąd my się w ogóle wzięliśmy? Historia i kultura DaVita - retrospekcja z Asią Gajewską
DESCRIPTION:
URL:https://davitaintranet.052b.work/wydarzenie/tedxdavita-skad-my-sie-w-ogole-wzielismy-historia-i-kultura-davita-retrospekcja-z-asia-gajewska/
END:VEVENT
BEGIN:VEVENT
DTSTART;TZID=Europe/Warsaw:20221027T100000
DTEND;TZID=Europe/Warsaw:20221027T103000
DTSTAMP:20260423T054829
CREATED:20221004T135012Z
LAST-MODIFIED:20221006T151609Z
UID:10000095-1666864800-1666866600@davitaintranet.052b.work
SUMMARY:DaVitowe inspiracje: Po co nam te wszystkie polityki i procedury? O jakości leczenia poopowiada Edyta Kaczmarek
DESCRIPTION:
URL:https://davitaintranet.052b.work/wydarzenie/tedxdavita-po-co-nam-te-wszystkie-polityki-i-procedury-o-jakosci-leczenia-poopowiada-edyta-kaczmarek/
END:VEVENT
END:VCALENDAR