BEGIN:VCALENDAR
VERSION:2.0
PRODID:-//DaVita Intranet - ECPv6.6.4//NONSGML v1.0//EN
CALSCALE:GREGORIAN
METHOD:PUBLISH
X-ORIGINAL-URL:https://davitaintranet.052b.work
X-WR-CALDESC:Events for DaVita Intranet
REFRESH-INTERVAL;VALUE=DURATION:PT1H
X-Robots-Tag:noindex
X-PUBLISHED-TTL:PT1H
BEGIN:VTIMEZONE
TZID:Europe/Warsaw
BEGIN:DAYLIGHT
TZOFFSETFROM:+0100
TZOFFSETTO:+0200
TZNAME:CEST
DTSTART:20230326T010000
END:DAYLIGHT
BEGIN:STANDARD
TZOFFSETFROM:+0200
TZOFFSETTO:+0100
TZNAME:CET
DTSTART:20231029T010000
END:STANDARD
END:VTIMEZONE
BEGIN:VEVENT
DTSTART;VALUE=DATE:20230407
DTEND;VALUE=DATE:20230408
DTSTAMP:20260422T212819
CREATED:20221223T173937Z
LAST-MODIFIED:20221223T173937Z
UID:10000104-1680825600-1680911999@davitaintranet.052b.work
SUMMARY:Światowy Dzień Zdrowia
DESCRIPTION:
URL:https://davitaintranet.052b.work/wydarzenie/swiatowy-dzien-zdrowia/
END:VEVENT
BEGIN:VEVENT
DTSTART;TZID=Europe/Warsaw:20230413T100000
DTEND;TZID=Europe/Warsaw:20230413T103000
DTSTAMP:20260422T212819
CREATED:20230329T141359Z
LAST-MODIFIED:20230329T142751Z
UID:10000112-1681380000-1681381800@davitaintranet.052b.work
SUMMARY:DaVitowe Inspiracje | Przeszczepianie narządów\, szczególnie nerek. Jak to wygląda w Polsce? Opowie Marta Serwańska-Świętek
DESCRIPTION:
URL:https://davitaintranet.052b.work/wydarzenie/davitowe-inspiracje-przeszczepianie-narzadow-szczegolnie-nerek-jak-to-wyglada-w-polsce-opowie-marta-serwanska-swietek/
END:VEVENT
BEGIN:VEVENT
DTSTART;TZID=Europe/Warsaw:20230424T150000
DTEND;TZID=Europe/Warsaw:20230424T153000
DTSTAMP:20260422T212819
CREATED:20230417T055722Z
LAST-MODIFIED:20230417T060043Z
UID:10000118-1682348400-1682350200@davitaintranet.052b.work
SUMMARY:Szkolenie antydyskryminacyjne
DESCRIPTION:Czeka na Ciebie w StarLearing. Ukończ je do 24 kwietnia włącznie.
URL:https://davitaintranet.052b.work/wydarzenie/szkolenie-antydyskryminacyjne/
END:VEVENT
BEGIN:VEVENT
DTSTART;TZID=Europe/Warsaw:20230426T100000
DTEND;TZID=Europe/Warsaw:20230426T113000
DTSTAMP:20260422T212819
CREATED:20230321T131429Z
LAST-MODIFIED:20230330T184002Z
UID:10000111-1682503200-1682508600@davitaintranet.052b.work
SUMMARY:Voice of Village vol. 9.
DESCRIPTION:Na pierwszym w tym roku Voice of Village tradycyjnie już porozmawiamy o naszych planach na najbliższe 12 miesięcy. \n 
URL:https://davitaintranet.052b.work/wydarzenie/voice-of-village-vol-9/
END:VEVENT
END:VCALENDAR