BEGIN:VCALENDAR
VERSION:2.0
PRODID:-//DaVita Intranet - ECPv6.6.4//NONSGML v1.0//EN
CALSCALE:GREGORIAN
METHOD:PUBLISH
X-ORIGINAL-URL:https://davitaintranet.052b.work
X-WR-CALDESC:Events for DaVita Intranet
REFRESH-INTERVAL;VALUE=DURATION:PT1H
X-Robots-Tag:noindex
X-PUBLISHED-TTL:PT1H
BEGIN:VTIMEZONE
TZID:Europe/Warsaw
BEGIN:DAYLIGHT
TZOFFSETFROM:+0100
TZOFFSETTO:+0200
TZNAME:CEST
DTSTART:20240331T010000
END:DAYLIGHT
BEGIN:STANDARD
TZOFFSETFROM:+0200
TZOFFSETTO:+0100
TZNAME:CET
DTSTART:20241027T010000
END:STANDARD
END:VTIMEZONE
BEGIN:VEVENT
DTSTART;TZID=Europe/Warsaw:20240306T090000
DTEND;TZID=Europe/Warsaw:20240306T100000
DTSTAMP:20260422T055640
CREATED:20240228T191128Z
LAST-MODIFIED:20240228T191446Z
UID:10000127-1709715600-1709719200@davitaintranet.052b.work
SUMMARY:A gdyby założyć\, że syndrom oszustki nie istnieje? O tym\, jak umacniać samoocenę i zaufanie do siebie w męskim świecie z okazji Dnia Kobiet opowie psycholog Danuta Rocławska
DESCRIPTION:
URL:https://davitaintranet.052b.work/wydarzenie/a-gdyby-zalozyc-ze-syndrom-oszustki-nie-istnieje-o-tym-jak-umacniac-samoocene-i-zaufanie-do-siebie-w-meskim-swiecie-opowie-psycholog-danuta-roclawska/
END:VEVENT
BEGIN:VEVENT
DTSTART;VALUE=DATE:20240314
DTEND;VALUE=DATE:20240315
DTSTAMP:20260422T055640
CREATED:20240306T214134Z
LAST-MODIFIED:20240306T214134Z
UID:10000129-1710374400-1710460799@davitaintranet.052b.work
SUMMARY:Światowy Dzień Nerek
DESCRIPTION:
URL:https://davitaintranet.052b.work/wydarzenie/swiatowy-dzien-nerek-2/
END:VEVENT
END:VCALENDAR