BEGIN:VCALENDAR
VERSION:2.0
PRODID:-//DaVita Intranet - ECPv6.6.4//NONSGML v1.0//EN
CALSCALE:GREGORIAN
METHOD:PUBLISH
X-ORIGINAL-URL:https://davitaintranet.052b.work
X-WR-CALDESC:Events for DaVita Intranet
REFRESH-INTERVAL;VALUE=DURATION:PT1H
X-Robots-Tag:noindex
X-PUBLISHED-TTL:PT1H
BEGIN:VTIMEZONE
TZID:Europe/Warsaw
BEGIN:DAYLIGHT
TZOFFSETFROM:+0100
TZOFFSETTO:+0200
TZNAME:CEST
DTSTART:20240331T010000
END:DAYLIGHT
BEGIN:STANDARD
TZOFFSETFROM:+0200
TZOFFSETTO:+0100
TZNAME:CET
DTSTART:20241027T010000
END:STANDARD
END:VTIMEZONE
BEGIN:VEVENT
DTSTART;TZID=Europe/Warsaw:20240425T090000
DTEND;TZID=Europe/Warsaw:20240425T100000
DTSTAMP:20260422T041324
CREATED:20240228T191657Z
LAST-MODIFIED:20240228T191657Z
UID:10000128-1714035600-1714039200@davitaintranet.052b.work
SUMMARY:Drogowa plaga - ludzka nieuwaga! Z okazji Dnia BHP zapraszamy na niecodzienny webinar.
DESCRIPTION:
URL:https://davitaintranet.052b.work/wydarzenie/drogowa-plaga-ludzka-nieuwaga-z-okazji-dnia-bhp-zapraszamy-na-niecodzienny-webinar/
END:VEVENT
END:VCALENDAR